BEGIN:VCALENDAR
VERSION:2.0
PRODID:-//www.himmlische-berufe.de//NONSGML kigkonsult.se iCalcreator 2.41.92//
CALSCALE:GREGORIAN
METHOD:PUBLISH
UID:61333935-6362-4530-b563-343962613561
X-WR-TIMEZONE:Europe/Berlin
X-LIC-LOCATION:Europe/Berlin
BEGIN:VTIMEZONE
TZID:Europe/Berlin
BEGIN:DAYLIGHT
TZOFFSETFROM:+0100
TZOFFSETTO:+0200
TZNAME:CEST
DTSTART:19700329T020000
RRULE:FREQ=YEARLY;BYDAY=-1SU;BYMONTH=3
END:DAYLIGHT
BEGIN:STANDARD
TZOFFSETFROM:+0200
TZOFFSETTO:+0100
TZNAME:CET
DTSTART:19701025T030000
RRULE:FREQ=YEARLY;BYDAY=-1SU;BYMONTH=10
END:STANDARD
END:VTIMEZONE
BEGIN:VEVENT
UID:35303635-3435-4766-b264-323737653933
DTSTAMP:20260421T121915Z
DESCRIPTION:Online-Infotermin für Studieninteressierte\n \n Religion und so
 ziales Engagement sind eng miteinander verbunden: Gerade wenn Menschen in 
 herausfordernden Lebenssituationen stehen\, kann Religion Halt und Orienti
 erung geben.\n \n Veranstaltungsort:\n https://eu01web.zoom.us/j/676759283
 10\n \n Veranstalter:\n Evangelische Hochschule Freiburg
DTSTART;TZID=Europe/Berlin:20260520T170000
DTEND;TZID=Europe/Berlin:20260520T180000
LOCATION:https://eu01web.zoom.us/j/67675928310
SUMMARY:Online Infoveranstaltung 'Religion und Soziales'
X-ALT-DESC;FMTTYPE=text/html:Online-Infotermin für Studieninteressierte<br 
 /><br />Religion und soziales Engagement sind eng miteinander verbunden: G
 erade wenn Menschen in herausfordernden Lebenssituationen stehen\, kann Re
 ligion Halt und Orientierung geben.<br /><br />Veranstaltungsort: <br />ht
 tps://eu01web.zoom.us/j/67675928310<br /><br />Veranstalter: <br />Evangel
 ische Hochschule Freiburg
END:VEVENT
END:VCALENDAR
